BEGIN:VCALENDAR
VERSION:2.0
PRODID:-//wp-events-plugin.com//7.2.3.1//EN
TZID:Europe/Zurich
X-WR-TIMEZONE:Europe/Zurich
BEGIN:VEVENT
UID:154@advisis.ch
DTSTART;TZID=Europe/Berlin:20260611T183000
DTEND;TZID=Europe/Berlin:20260611T203000
DTSTAMP:20260422T074125Z
URL:https://advisis.ch/events/schmerzen-und-demenz-wallisellen-2026/
SUMMARY:Fortbildung | TRIATHLON: Interdisziplinärer Ansatz bei Schmerzen i
 m Alter und Demenzfortbildung | Wallisellen
DESCRIPTION:\n\n\nÄrztefortbildung – wenn Alltag auf Entscheidung trifft
 \n\n\n 	Die Patientin mit zunehmender Vergesslichkeit.\n 	Der Patient mit 
 ausstrahlenden Rückenschmerzen.\n 	Die Frage\, ob ein Knorpelschaden bere
 its Arthrose bedeutet.\n\nDrei Situationen\, die Sie aus Ihrem Praxisallta
 g kennen – und die oft schnelle\, sichere Entscheidungen verlangen.\nIn 
 dieser Fortbildung erhalten Sie kompakte\, praxisnahe Einblicke\, die Sie 
 in genau diesen Momenten unterstützen: von der frühzeitigen Demenzerkenn
 ung über die differenzierte Beurteilung von Ischiasschmerzen bis hin zu m
 odernen\, individuellen Therapieansätzen bei Knorpelschäden.\nWir freuen
  uns auf einen gemeinsamen\, inspirierenden Austausch.\n\n\n\n\n\n\n\n\n\n
 \n\n\n\n\n\n\nDr. med. Raphael Monsch\, Dr. med. Cyrill Dennler\, Dr. med.
  Christopher Schmidt\, Dr. med. Hans-Peter Bochsler\n\n\n\n\n\n\n\n\n\n\n\
 n\n\n********************\n\n\n\n\n\nDATUM: 11. Juni 2026\n\nZEIT: 18:30
 –20:30 Uhr\, mit anschliessendem Apéro\n\nORT : Restaurant Zum Doktorha
 us | Alte Winterthurerstrasse 31 | 8304 Wallisellen\n\nCREDIT POINTS: SGAI
 M beantragt\n\n\n\n\nREFERENTEN:\n\n 	Dr. med. Raphael Monsch\, Facharzt (
 FMH) für Allgemeine Innere Medizin\, Schwerpunkt Geriatrie FMH\, Fähigke
 itsausweis Praxislabor (KHM)\n 	Dr. med. Cyrill Dennler\, Facharzt (FMH) f
 ür Orthopädische Chirurgie und Traumatologie des Bewegungsapparates Wirb
 elsäulenchirurgie (SGNC und SO) Interventionelle Schmerztherapie (SSIPM)\
 n 	Dr. med. Christopher Schmidt\, Orthopädische Chirurgie und Traumatolog
 ie des Bewegungsapparates FMH Sportmedizin\n\n\n\n\nDownload Programm:\n\n
 \n\n\n\n\n
LOCATION:Restaurant Zum Doktorhaus\, Alte Winterthurerstrasse 31\, 8304 Wal
 lisellen\, Schweiz
GEO:47.415902;8.588912
X-APPLE-STRUCTURED-LOCATION;VALUE=URI;X-ADDRESS=Alte Winterthurerstrasse 31
 \, 8304 Wallisellen\, Schweiz;X-APPLE-RADIUS=100;X-TITLE=Restaurant Zum Do
 ktorhaus:geo:47.415902,8.588912
END:VEVENT
BEGIN:VTIMEZONE
TZID:Europe/Berlin
X-LIC-LOCATION:Europe/Berlin
BEGIN:DAYLIGHT
DTSTART:20260329T030000
TZOFFSETFROM:+0100
TZOFFSETTO:+0200
TZNAME:CEST
END:DAYLIGHT
END:VTIMEZONE
END:VCALENDAR