BEGIN:VCALENDAR
VERSION:2.0
PRODID:-//wp-events-plugin.com//7.2.3.1//EN
TZID:Europe/Zurich
X-WR-TIMEZONE:Europe/Zurich
BEGIN:VEVENT
UID:151@advisis.ch
DTSTART;TZID=Europe/Berlin:20260611T083000
DTEND;TZID=Europe/Berlin:20260611T174500
DTSTAMP:20260304T152913Z
URL:https://advisis.ch/events/medecine-geriatrique-update-2026/
SUMMARY:3ème Médecine gériatrique update 2026 - Hôtel Suisse Majestic M
 ontreux
DESCRIPTION:\n\n\n\n\n\n\n\n\n3ème Formation continue «Médecine de la 
 personne âgée»\n\n\n\nChères et chers Collègues\,\n\n\n\nNous avo
 ns le grand plaisir de vous inviter à participer à la 3e édition «Méd
 ecine gériatrique update 2026». La formation continue se concentre sur l
 e traitement pratique et global du patient gériatrique chez le médecin d
 e premier recours.\nNous sommes heureux d’avoir pu élaborer une 3em éd
 ition en collaboration avec la professeure Patrizia D’Amelio (CHUV) et l
 e professeur Christophe Graf (HUG)\, un programme de formation continue pa
 ssionnant\, vivant et axé sur les connaissances les plus récentes et en 
 tenant compte des suggestions et des souhaits exprimés par les participan
 ts à la formation continue de l’année dernière Médecine Gériatrique
  Update 2025 à Montreux.\nLe contenu du programme a été développé par
  le comité scientifique sur la base des événements actuels et vise avan
 t tout à favoriser l’interactivité dans les thèmes complexes. L’obj
 ectif de la manifestation est de discuter avec le médecin spécialiste de
  la gestion des maladies multiples\, typique de la médecine gériatrique\
 , et de l’interdisciplinarité qui en ­ découle et qui est demandée q
 uotidiennement au médecin de famille en exercice.\nLa participation au pr
 ogramme est accréditée par la SSMIG avec 7 crédits et la SPSG avec 8 cr
 édits de formation continue.\n\n\n\n\n\n\n\n\n\n\n\n\n\n\n\n\n\n\n\n\n\n\
 n\n\n\n\n\n\n\n\n\n\n\n\n\nLe nombre de participants étant limité\, no
 us vous recommandons de vous inscrire rapidement.\n\n\n\n\nNous nous réj
 ouissons de votre participation.\n\n\n\n\n\n\n\n\n\n\n\n\n\n\n\n\n\n\n\n\n
 \nProf Dr. méd. Patrizia D’Amelio | Prof. Dr. méd. Christophe Graf\n
 \n\n\n=&gt\; Download Programme\n\n\n\n\n\n\n\n\n\n\n\n\n\n\n\n\n\n\n\n\n\
 n\n\n\n\n\n\n\n\n\nAnnonce\n\n\n\n\n\nCrédits\nSociété Suisse de Mé
 decine Interne Générale (SSMIG): 7 Crédits\nSociété Professionne
 lle Suisse de Gériatrie (SPSG): 8 Crédits\n\n\n\n\n\nHôtel / Itinéra
 ire (transports publics / véhicule)\nVous recevrez des informations plus 
 détaillées : https://brhhh.com/suisse-majestic\n\nPrestations fournies\n
 • Formation post-graduée selon programme\n• Pause et Lunch à midi\
 n• Apéritif\n\n\n\n\n\nCoût\nParticipation (Lunch à midi et Apéri
 tif inclus) CHF 175.–\n\nInscription\nLe nombre de places étant limité
 \, ne tardez pas à vous inscrire! Les places seront attribués selon leur
  ordre d’arrivée.\n\nConditions d‘annulation\n\n\n\n\n 	Des annulatio
 ns de participation doivent être communiquées par mail (mail@advisis.c
 h) à Advisis AG au plus tard 2 semaines avant l‘événement.\n 	No s
 hows et annulations à moins de 2 semaines avant l’événement ne ser
 ont pas remboursés.\n 	Les annulations pour cause de maladie ou d’acci
 dent sont traitées de la même manière. Les frais de participation do
 ivent être déclarés par le/la participant(e) via son assurance voyag
 e privée.\n\n\n\n\n&nbsp\;\n\n\n&nbsp\;\n\n\n
LOCATION:GRAND HÔTEL SUISSE MAJESTIC​ \, Avenue des Alpes 45\, 1820 Mon
 treux\, Schweiz
GEO:46.435864;6.90984
X-APPLE-STRUCTURED-LOCATION;VALUE=URI;X-ADDRESS=Avenue des Alpes 45\, 1820 
 Montreux\, Schweiz;X-APPLE-RADIUS=100;X-TITLE=GRAND HÔTEL SUISSE MAJESTIC
 ​ :geo:46.435864,6.90984
END:VEVENT
BEGIN:VTIMEZONE
TZID:Europe/Berlin
X-LIC-LOCATION:Europe/Berlin
BEGIN:DAYLIGHT
DTSTART:20260329T030000
TZOFFSETFROM:+0100
TZOFFSETTO:+0200
TZNAME:CEST
END:DAYLIGHT
END:VTIMEZONE
END:VCALENDAR